BEGIN:VCALENDAR
VERSION:2.0
PRODID:-//Tukios.com/
BEGIN:VEVENT
UID:627ecb61-d932-4ce9-a890-7a2ec2d0f0c9@www.ozellajf.com
DTSTAMP:20260421T231444Z
DTSTART:20260425T150000Z
DTEND:20260425T170000Z
SUMMARY:Visitation
DESCRIPTION:
URL:https://www.ozellajf.com/obituaries/john-jackson
LOCATION: 4100 Dr. Martin Luther King Drive  St. Louis MO 63113
GEO:38.6529079;-90.2377209
END:VEVENT
END:VCALENDAR