BEGIN:VCALENDAR
VERSION:2.0
PRODID:-//Tukios.com/
BEGIN:VEVENT
UID:62dd3da0-4d05-4987-b968-fcb962c78918@www.ozellajf.com
DTSTAMP:20260422T233523Z
DTSTART:20260427T210000Z
DTEND:20260428T000000Z
SUMMARY:Visitation
DESCRIPTION:
URL:https://www.ozellajf.com/obituaries/lamandrae-cannon
LOCATION: 4100 Dr. Martin Luther King Drive  St. Louis MO 63113
GEO:38.6529079;-90.2377209
END:VEVENT
END:VCALENDAR