BEGIN:VCALENDAR
VERSION:2.0
PRODID:-//Tukios.com/
BEGIN:VEVENT
UID:b8da2b6f-2566-43fb-aa03-5bb27a2060e9@www.ozellajf.com
DTSTAMP:20260422T233820Z
DTSTART:20260428T160000Z
DTEND:20260428T180000Z
SUMMARY:Funeral Service
DESCRIPTION:
URL:https://www.ozellajf.com/obituaries/lamandrae-cannon
LOCATION: 1385 Goodfellow Blvd  St. Louis MO 63112
GEO:38.6690447;-90.2818378
END:VEVENT
END:VCALENDAR