BEGIN:VCALENDAR
VERSION:2.0
PRODID:-//Tukios.com/
BEGIN:VEVENT
UID:3dd0f9c4-daaf-489c-a62f-a2dd1a950c75@www.ozellajf.com
DTSTAMP:20260421T044531Z
DTSTART:20260502T150000Z
DTEND:20260502T160000Z
SUMMARY:Visitation
DESCRIPTION:
URL:https://www.ozellajf.com/obituaries/randy-veasley
LOCATION: 4100 Dr. Martin Luther King Drive  St. Louis MO 63113
GEO:38.6529079;-90.2377209
END:VEVENT
END:VCALENDAR