BEGIN:VCALENDAR
VERSION:2.0
PRODID:-//Tukios.com/
BEGIN:VEVENT
UID:be012e08-15db-409f-a5b4-c53d694aedfc@www.ozellajf.com
DTSTAMP:20260421T044404Z
DTSTART:20260502T160000Z
DTEND:20260502T174500Z
SUMMARY:Funeral Service
DESCRIPTION:
URL:https://www.ozellajf.com/obituaries/randy-veasley
LOCATION: 4100 Dr. Martin Luther King Drive  St. Louis MO 63113
GEO:38.6529079;-90.2377209
END:VEVENT
END:VCALENDAR